BEGIN:VCALENDAR
PRODID:-//event//iCal4j 1.0//EN
CALSCALE:GREGORIAN
BEGIN:VEVENT
DTSTAMP:20260420T142340Z
DTSTART:20191106T160000Z
DTEND:20191106T230000Z
SUMMARY:20191103-gmis3
LOCATION:Marriott Hotel & Conference Center 1106 Karin Drive Normal\, Il 
   
END:VEVENT
END:VCALENDAR
